BEGIN:VCALENDAR
VERSION:2.0
PRODID:-//https://mnar.ro///NONSGML kigkonsult.se iCalcreator 2.10.15//
METHOD:PUBLISH
BEGIN:VEVENT
UID:20260420T104052EEST-4547zMJoBF@https://mnar.ro/
DTSTAMP:20260420T074052Z
DESCRIPTION:Pe acest site găsiți șase tururi virtuale\, atât pentru cele tr
 ei galerii permanente de la MNAR\, cât și pentru muzeele satelit.\nTururi 
 virtuale în galeriile permanente MNAR\nGaleria de Artă Românească Modernă&
 nbsp\;Galeria de Artă Veche Românească&nbsp\;Galeria de Artă Europeană&nbs
 p\;\nTururi virtuale în muzeele satelitMuzeul Colecțiilor de Artă&nbsp\;Mu
 zeul K.H. Zambaccian&nbsp\;Muzeul Theodor Pallady&nbsp\; http://www.mnar.a
 rts.ro/evenimente-muzeu/eveniment/464-șase-tururi-virtuale-de-la-mnar\,-pe
 ntru-o-vizită-la-muzeu-de-acasă
DTSTART:20200316T000000Z
DTEND:20200831T000000Z
LOCATION:Muzeul Național de Artă al României (Calea Victoriei 49-53\, Bucur
 ești\, România)
SUMMARY:Șase tururi virtuale de la MNAR\, pentru o vizită la muzeu de acasă
 
URL:http://www.mnar.arts.ro/evenimente-muzeu/eveniment/464-șase-tururi-virt
 uale-de-la-mnar,-pentru-o-vizită-la-muzeu-de-acasă
END:VEVENT
END:VCALENDAR
