BEGIN:VCALENDAR
VERSION:2.0
PRODID:-//https://mnar.ro///NONSGML kigkonsult.se iCalcreator 2.10.15//
METHOD:PUBLISH
BEGIN:VEVENT
UID:20260424T030534EEST-09755fmzwk@https://mnar.ro/
DTSTAMP:20260424T000534Z
DESCRIPTION:De azi\, Sala Brâncuși din Galeria de Artă Românească Modernă v
 a fi deschisă publicului! Pe lângă lucrările de tinerețe ale lui Constanti
 n Brâncuși\, vor fi expuse în premieră\, pentru o scurtă perioadă de timp\
 , Carnetul de schițe și 2 capete de copii din bronz\, realizate în 1906.\n
 &nbsp\;\nCarnetul de schițe va fi deschis în fiecare săptămână la alte pag
 ini\, pentru a face posibilă parcurgerea tuturor desenelor și însemnărilor
  lui Brâncuși.&nbsp\;Descoperă&nbsp\;aici&nbsp\;mai multe imagini din Carn
 etul de Schițe a lui Brâncuși!\n&nbsp\;\nCarnetul de schițe este singura m
 ărturie substanțială care s-a păstrat din anii de formare ai lui Constanti
 n Brâncuși ca student la Școala de Arte Frumoase din București și reprezin
 tă o piesă rară din patrimoniul muzeului. Carnetul este alcătuit din 71 de
  file\, legate într-o copertă cartonată din pânză roșie. Există 89 de schi
 țe (două dintre ele neterminate\, 49 verso și 59 verso). Șase pagini conți
 n însemnări autografe. Carnetul a fost lăsat de Brâncuşi\, înainte de plec
 area la Paris\, compozitorului de coruri Ion Croitoru (1885-1972).\n&nbsp\
 ;\nPrintre cele mai semnificative desene din carnetul de schițe se numără 
 cele două autoportrete în creion roșu\, f. 55 (din profil) și f. 56 (front
 al) - primele autoportrete cunoscute ale lui Brâncuși. În ambele\, tânărul
  artist are deja barbă și poartă o pălărie ale cărei boruri largi îi confe
 ră -în mod voit-\, în autoportetul frontal\, un fel de aură similară cu ac
 eea a sfinților reprezentați în icoane. Autoironia și ambiția se amestecă 
 subtil în astfel de incursiuni în propria psihologie.\n&nbsp\;\n&nbsp\;\n&
 nbsp\;\n&nbsp\;\n&nbsp\;\n&nbsp\; http://www.mnar.arts.ro/component/rseven
 tspro/eveniment/881-redeschiderea-sălii-brâncuși-la-mnar
DTSTART:20260310T220000Z
DTEND:20260415T071434Z
LOCATION:Muzeul Național de Artă al României - Galeria de Artă Românească M
 odernă (Calea Victoriei 49\, București\, România)
SUMMARY:Redeschiderea Sălii Brâncuși la MNAR
URL:http://www.mnar.arts.ro/component/rseventspro/eveniment/881-redeschider
 ea-sălii-brâncuși-la-mnar
END:VEVENT
END:VCALENDAR
