BEGIN:VCALENDAR
VERSION:2.0
PRODID:-//https://mnar.ro///NONSGML kigkonsult.se iCalcreator 2.10.15//
METHOD:PUBLISH
BEGIN:VEVENT
UID:20260424T030817EEST-0511oOLImC@https://mnar.ro/
DTSTAMP:20260424T000817Z
DESCRIPTION:Muzeul Național de Artă al României (MNAR) participă în cadrul 
 primei ediții Romanian Creative Week (RCW) desfășurată la București\, în p
 erioada 3-9 octombrie 2025. Cunoscut drept unul dintre cele mai importante
  evenimente dedicate industriilor creative din Uniunea Europeană\, Romania
 n Creative Week are loc pentru prima dată în Capitală\, după cinci ediții 
 de succes organizate la Iași\, și propune o capsulă de toamnă variată: art
 e vizuale\, new media\, performance\, dans\, arhitectură\, film și modă.\n
 Program \nVineri\, 3 octombrie 2025\n18:30\, vernisajul expoziției Für Pap
 ier und Orchester\, Sălile Kretzulescu\, Muzeul Național de Artă al Români
 ei (acces Str. Walter Mărăcineanu)\nNicoleta Radu/Fabrik\, tipograf\, alăt
 uri de Emilian Pospaii\, poet și ilustrator\, întorc hârtia\, transformând
 -o din suport în subiect: texturi\, volume\, straturi industriale și piese
  tipografice devin materiale de expunere.\n19:30\, vernisajul instalației 
 video New Media District\, Curtea de Onoare\, Muzeul Național de Artă al R
 omâniei (acces Calea Victoriei 49-53)\nProiectul aparține artistului vizua
 l Andrei Cozlac\, dublu premiat de UNITER pentru video mapping\, reunește 
 șase artiști ai scenei new media românești: Noiseloop\, Silviu Apostol\, T
 eodor Buruiană\, Andrei Lazăr\, Grafo\, George Dura.\nSâmbătă\, 4 octombri
 e 2025\n17:00\, vernisajul expoziției [In]Absentia\, Foaierul Auditorium\,
  Muzeul Național de Artă al României (acces Str. Știrbei Vodă nr. 1).\nExp
 oziția curatoriată de Alexandra Sârbu prezintă instalația artiștilor Andre
 i Budescu și Cristian Opriș\, într-o scenografie realizată de arhitecta Ca
 rina Lăcătușu. Expoziția-eseu marchează memoria Holocaustului și pune în d
 iscuție responsabilitatea colectivă a rememorării. http://www.mnar.arts.ro
 /component/rseventspro/eveniment/844-romanian-creative-week-la-muzeul-nați
 onal-de-artă-al-româniei-3-9-octombrie-2025
DTSTART:20251001T115859Z
DTEND:20251009T135859Z
LOCATION:Muzeul Național de Artă al României  (Str. Muzeul Zambaccian\, 21 
 A)
SUMMARY:Romanian Creative Week la Muzeul Național de Artă al României  3-9 
 octombrie 2025
URL:http://www.mnar.arts.ro/component/rseventspro/eveniment/844-romanian-cr
 eative-week-la-muzeul-național-de-artă-al-româniei-3-9-octombrie-2025
END:VEVENT
END:VCALENDAR
