BEGIN:VCALENDAR
VERSION:2.0
PRODID:-//https://mnar.ro///NONSGML kigkonsult.se iCalcreator 2.10.15//
METHOD:PUBLISH
BEGIN:VEVENT
UID:20260424T013715EEST-9076Pk0Ush@https://mnar.ro/
DTSTAMP:20260423T223715Z
DESCRIPTION:Una dintre activitățile de valorificare a patrimoniului muzeulu
 i este aceea de a publica cercetărtile ce stau la baza expozițiilor organi
 zate de-a lungul timpului. Tot în publicații sunt consemnate și etapele de
  conservare și restaurare ale pieselor din patrimoniul muzeal. În fiecare 
 an\, MNAR publică cataloage care însoțesc expozițiile temporare organizate
  în spațiile sale\, în țară și în străinătate - realizate de către special
 iștii săi.\nIar pentru că în aceste zile #stamACASA\, ne-am propus să aduc
 em colecțiile și expozițiile Muzeului Național de Artă al României mai apr
 oape de dumneavoastră\, punându-vă&nbsp\;la dispoziție câteva dintre publi
 cațiile muzeului\, cataloage și cercetări.\nVă invităm să le răsfoiți cu a
 ceeași curiozitate pe care o aveți în expoziții\, în fața lucrărilor de ar
 tă.&nbsp\;\n#aproapedeARTA #museumsandChill\n&nbsp\; &nbsp\;&nbsp\;\n&nbsp
 \;&nbsp\; http://www.mnar.arts.ro/component/rseventspro/eveniment/472-desc
 operă-publicațiile-mnar
DTSTART:20200413T044825Z
DTEND:20220630T180000Z
LOCATION:Muzeul Național de Artă al României (Calea Victoriei 49-53\, Bucur
 ești\, România)
SUMMARY:Descoperă publicațiile MNAR!
URL:http://www.mnar.arts.ro/component/rseventspro/eveniment/472-descoperă-p
 ublicațiile-mnar
END:VEVENT
END:VCALENDAR
