BEGIN:VCALENDAR
VERSION:2.0
PRODID:-//https://mnar.ro///NONSGML kigkonsult.se iCalcreator 2.10.15//
METHOD:PUBLISH
BEGIN:VEVENT
UID:20260424T003131EEST-53088sMTu0@https://mnar.ro/
DTSTAMP:20260423T213131Z
DESCRIPTION:&nbsp\;\nREZULTATE FINALE - CÂȘTIGĂTOR BURSĂ MICAELA ELEUTHERIA
 DE\nREZULTATE SELECȚIE DOSARE PENTRU INTERVIU\n&nbsp\;\nMuzeul Naţional de
  Artă al României anunță organizarea concursului pentru acordarea bursei „
 Micaela Eleutheriade”\, în perioada 18 mai - 25 iunie 2020.\nBursa „Micael
 a Eleutheriade” constă în darea spre folosinţă pe o perioadă de doi ani a 
 unui apartament în București\, pentru a fi utilizat ca atelier de creație 
 artistică.Această bursă se acordă de către MNAR prin concurs public\, pe o
  durată fixă de doi ani\, unui absolvent de învăţământ superior de special
 itate în domeniul picturii sau graficii\, în vârstă de până la 35 de ani.
 \nDosarul de înscriere și solicitare a bursei „Micaela Eleutheriade” va cu
 prinde următoarele documente:\na) Scrisoare de intenţie\;b) Curriculum vit
 ae (format Europass)\;c) Copie după actul de identitate\;d) Copie/ii după 
 diploma/ele de studii absolvite\, însemnate pe fiecare pagină\, cu sintagm
 a „Conform cu originalul” și semnate de către deținător\;e) Două scrisori 
 de recomandare din partea unui specialist / artist din domeniu\, dintre ca
 re una din partea unei personalități din mediul academic/universitar\;f) P
 ortofoliu: 10 fotografii ale lucrărilor personale\, cu specificarea tehnic
 ii\, a dimensiunilor şi a datei execuţiei\; cataloage de participare la ex
 poziţii şi dosar de presă după caz\, alte documente relevante privind acti
 vitatea sa.\nBursa se acordă de către un juriu pe baza unei proceduri de e
 valuare şi selecţie și a unui interviu.\nDepunerea dosarelor de înscriere 
 va avea loc până la data de 05 iunie 2020\, ora 13:00\, în format digital\
 , la adresa de e-mail secretariat@art.museum.ro\,&nbsp\;iar desemnarea câș
 tigătorului se va face pe data de 25 iunie 2020.\nMai multe detalii despre
  acordarea acestei burse găsiți în Regulamentul concursului.\nCalendarul c
 oncursului pentru acordarea bursei Micaela Eleuteriade:\nDepunerea dosarel
 or de candidatură\, în format digital\, la adresa de e-mail secretariat@ar
 t.museum.ro: 18 mai – 05 iunie 2020 (până la data de 5 iunie 2020\, ora 13
 :00)Evaluarea și selecția dosarelor: 05 – 12 iunie 2020\;Afișarea rezultat
 elor și a listei cu candidații selectați pentru interviu: 12 iunie 2020\, 
 ora 13:00\;Interviurile vor avea loc pe data de 18 iunie 2020\, începând c
 u ora 10:00*\;Selecția finală și desemnarea câștigătorului: 19-22 iunie 20
 20\;Afișarea rezultatelor finale: 25 iunie 2020\, ora 13:00.\n*Modalitatea
  de desfășurare a interviurilor va fi anunțată ulterior. http://www.mnar.a
 rts.ro/arhiva-evenimentelor/eveniment/477-concursul-pentru-acordarea-burse
 i-micaela-eleutheriade-rezultate-finale
DTSTART:20200512T084256Z
DTEND:20200625T180000Z
LOCATION:Muzeul Național de Artă al României (Calea Victoriei 49-53\, Bucur
 ești\, România)
SUMMARY:Concursul pentru acordarea bursei MICAELA ELEUTHERIADE - rezultate 
 finale
URL:http://www.mnar.arts.ro/arhiva-evenimentelor/eveniment/477-concursul-pe
 ntru-acordarea-bursei-micaela-eleutheriade-rezultate-finale
END:VEVENT
END:VCALENDAR
