BEGIN:VCALENDAR
VERSION:2.0
PRODID:-//https://mnar.ro///NONSGML kigkonsult.se iCalcreator 2.10.15//
METHOD:PUBLISH
BEGIN:VEVENT
UID:20260424T003130EEST-9817XviHFw@https://mnar.ro/
DTSTAMP:20260423T213130Z
DESCRIPTION:În fiecare zi de vineri\, Muzeul Național de Artă al României t
 rimite un newsletter către toți cei abonați.\nPentru că zilele astea #Stam
 Acasa\, am decis să schimbăm formatul newsletterului\, transformându-l înt
 r-o revistă unde găsiți imaginile și informațiile pe care pe care le-am of
 erit în săptămâna respectivă celor care ne urmăresc pe site și pe paginile
  noastre de Facebook și Instagram.\nGăsiți mai jos toate numerele apărute 
 până în acest moment.\nIar dacă vreți să vă abonați la newsletter pentru a
 -l primi pe mail de îndată ce l-am trimis\, o puteți face completând acest
  formular.\nLectură plăcută!\n\nNewsletter 15 mai\n\n\n\n&nbsp\;\n\n&nbsp\
 ;\n&nbsp\;\n&nbsp\;\n&nbsp\;\n&nbsp\;\n&nbsp\;\n&nbsp\;\n&nbsp\;\n&nbsp\;
 \n&nbsp\;\n&nbsp\;\n&nbsp\;\n&nbsp\;\n&nbsp\;\n&nbsp\;\n&nbsp\;\n&nbsp\;\n
 &nbsp\;\n&nbsp\;\n&nbsp\;\n&nbsp\;\nNewsletter 8 mai\n\n\n&nbsp\;\n&nbsp\;
 \n&nbsp\;\n&nbsp\;\n&nbsp\;\n&nbsp\;\n&nbsp\;\n&nbsp\;\n&nbsp\;\n&nbsp\;\n
 &nbsp\;\n&nbsp\;\n&nbsp\;\n&nbsp\;\n&nbsp\;\n&nbsp\;\n&nbsp\;\n&nbsp\;\n&n
 bsp\;\n&nbsp\;\n&nbsp\;\n\n&nbsp\;\n\nNewsletter 1 Mai\n\n\n\n\n&nbsp\;\n&
 nbsp\;\n&nbsp\;\n&nbsp\;\n&nbsp\;\n&nbsp\;\n&nbsp\;\n&nbsp\;\n&nbsp\;\n&nb
 sp\;\n&nbsp\;\n&nbsp\;\n&nbsp\;\n&nbsp\;\n&nbsp\;\n&nbsp\;\n&nbsp\;\n&nbsp
 \;\n&nbsp\;\n&nbsp\;\n&nbsp\;\n&nbsp\;\n&nbsp\;\nNewsletter 24 aprilie\n\n
 \n\n&nbsp\;\nNewsletter 17 aprilie\n\n\n&nbsp\;\n\n\nNewsletter 10 aprilie
 \n\n\n\n\nNewsletter 3 aprilie\n\nRead more publications on Calaméo\n\n\n
 \n\n\n\n\n\n\n\n&nbsp\; http://www.mnar.arts.ro/arhiva-evenimentelor/eveni
 ment/471-newsletterul-mnar\,-acum-sub-formă-de-revistă
DTSTART:20200408T114553Z
DTEND:20200609T134553Z
LOCATION:Muzeul Național de Artă al României (Calea Victoriei 49-53\, Bucur
 ești\, România)
SUMMARY:Newsletterul MNAR\, acum sub formă de revistă
URL:http://www.mnar.arts.ro/arhiva-evenimentelor/eveniment/471-newsletterul
 -mnar,-acum-sub-formă-de-revistă
END:VEVENT
END:VCALENDAR
